BEGIN:VCALENDAR
VERSION:2.0
PRODID:-//ChamberMaster//Event Calendar 2.0//EN
METHOD:PUBLISH
X-PUBLISHED-TTL:P3D
REFRESH-INTERVAL:P3D
CALSCALE:GREGORIAN
BEGIN:VEVENT
DTSTART:20210506T233000Z
DTEND:20210507T003000Z
X-MICROSOFT-CDO-ALLDAYEVENT:FALSE
SUMMARY:AN EVENING WITH TAMRA RYAN CEO OF WOMEN'S BEAN PROJECT
DESCRIPTION:JOIN US FOR A VERY SPECIAL NIGHT \n\n WITH CEO OF WOMEN'S BEAN PROJECT\, TAMRA RYAN. \n\nTAMRA WILL SPEAK ABOUT COMPASSIONATE LEADERSHIP AND SOCIAL ENTERPRISE. HER TALK WILL BE FOLLOWED BY A Q&A.\n\nTamra leads the Bean Project's strategic direction and is instrumental in putting the organization on the national and international map\, as a high-performing and impactful social enterprise. She is a former board member of Social Venture Partners-Denver\, chair of the Board of Directors for the Social Enterprise Alliance. She is on the advisory board for the Graduate School of Social Work at the University of Denver.\n\nCongressman Mike Coffman (R-CO) recognized Tamra's servant leadership and entered it into the Congressional Record of the 115th Congress\, Second Session in May 2018. She has also been named one of the 2017 Top 25 Most Powerful Women in Colorado\, was a speaker at TEDxMilehigh and is the author of The Third Law\, a book which highlights the societal obstacles and internal demons that must be overcome for marginalized women to change their lives. The Third Law has won multiple awards for women/minorities in business and social activism. She is currently working on her second book\, Followship: How to be a leader worth following.
X-ALT-DESC;FMTTYPE=text/html:<div style="color: rgb(74\, 74\, 74)\; font-family: &quot\;Century Gothic&quot\;\, Calibri\, Helvetica\, Arial\, sans-serif\; font-size: 22px\; font-weight: 700\; white-space: pre-wrap\; text-align: center\;"><span style="color: rgb(163\, 205\, 162)\;">JOIN US FOR A VERY SPECIAL NIGHT </span></div>\n\n<div style="color: rgb(74\, 74\, 74)\; font-family: &quot\;Century Gothic&quot\;\, Calibri\, Helvetica\, Arial\, sans-serif\; font-size: 22px\; font-weight: 700\; white-space: pre-wrap\; text-align: center\;"><span style="color: rgb(163\, 205\, 162)\;">&#65279\;WITH CEO OF WOMEN&#39\;S BEAN PROJECT\, TAMRA RYAN. </span></div>\n\n<div style="color: rgb(74\, 74\, 74)\; font-family: &quot\;Century Gothic&quot\;\, Calibri\, Helvetica\, Arial\, sans-serif\; font-size: 22px\; font-weight: 700\; white-space: pre-wrap\; text-align: center\;"><span style="color: rgb(163\, 205\, 162)\;">TAMRA WILL SPEAK ABOUT COMPASSIONATE LEADERSHIP AND SOCIAL ENTERPRISE. HER TALK WILL BE FOLLOWED BY A Q&amp\;A.</span>\n\n<div style="color: rgb(74\, 74\, 74)\; font-family: &quot\;Century Gothic&quot\;\, Calibri\, Helvetica\, Arial\, sans-serif\; font-size: 16px\; white-space: pre-wrap\;"><span style="font-size: 15px\; color: rgb(48\, 48\, 48)\; font-family: Georgia\, &quot\;Times New Roman&quot\;\, Times\, serif\;">Tamra leads the Bean Project&rsquo\;s strategic direction and is instrumental in putting the organization on the national and international map\, as a high-performing and impactful social enterprise. She is a former board member of Social Venture Partners-Denver\, chair of the Board of Directors for the Social Enterprise Alliance. She is on the advisory board for the Graduate School of Social Work at the University of Denver.</span></div>\n\n<div style="color: rgb(74\, 74\, 74)\; font-family: &quot\;Century Gothic&quot\;\, Calibri\, Helvetica\, Arial\, sans-serif\; font-size: 16px\; white-space: pre-wrap\;"><span style="font-size: 15px\; color: rgb(48\, 48\, 48)\; font-family: Georgia\, &quot\;Times New Roman&quot\;\, Times\, serif\;">Congressman Mike Coffman (R-CO) recognized Tamra&rsquo\;s servant leadership and entered it into the Congressional Record of the 115th Congress\, Second Session in May 2018. She has also been named one of the 2017 Top 25 Most Powerful Women in Colorado\, was a speaker at TEDxMilehigh and is the author of The Third Law\, a book which highlights the societal obstacles and internal demons that must be overcome for marginalized women to change their lives. The Third Law has won multiple awards for women/minorities in business and social activism. She is currently working on her second book\, Followship: How to be a leader worth following.</span></div>\n<br />\n&nbsp\;</div>\n
LOCATION:Via Zoom
UID:e.2146.2188
SEQUENCE:3
DTSTAMP:20260424T025444Z
URL:https://business.denverjewishchamber.com/events/details/an-evening-with-tamra-ryan-ceo-of-women-s-bean-project-2188
END:VEVENT

END:VCALENDAR
