BEGIN:VCALENDAR
VERSION:2.0
PRODID:-//ChamberMaster//Event Calendar 2.0//EN
METHOD:PUBLISH
X-PUBLISHED-TTL:P3D
REFRESH-INTERVAL:P3D
CALSCALE:GREGORIAN
BEGIN:VEVENT
DTSTART:20200717T010000Z
DTEND:20200717T020000Z
X-MICROSOFT-CDO-ALLDAYEVENT:FALSE
SUMMARY:A Special Evening of Original Music with Zach Heckendorf
DESCRIPTION:The Denver Jewish Chamber of Commerce Presents: \n\nA Special Concert With Zach Heckendorf \n\nSponsored by  Perry Moss and Jesse Blum\, on behalf of H.M. Brown and Associates\n\nAll proceeds benefiting Courageous Faces Foundation\n\n \n\nZach Heckendorf found himself mesmerized by the lyrical depth of master songwriters like James Taylor\, Paul Simon\, and Carole King at a young age.\n\nHe released his debut album at age 16\, and gained the backing of Republic Records at the age of 18. His artistry carves a bold path from upbeat indie pop rock to soft\, but gripping ballads.\n\nHe's amassed a flurry of both critical and fan favorites\, touring the U.S. as a headliner\, developing a series of music videos\, and supporting various artists at the world-famous Red Rocks Amphitheater.\n\n \n\nTicket sales from this event will benefit Courageous Faces Foundation.Courageous Faces Foundation is honored to be the recipient of this thrilling opportunity to help improve the quality of life of those with rare and severe medical conditions through ongoing\, direct\, personalized support. Visit their website for more information on the important work they do!\n\n \n\nPlease join us for a fun night of amazing music benefiting Courageous Faces Foundation
X-ALT-DESC;FMTTYPE=text/html:<div style="color: rgb(87\, 87\, 87)\; font-family: Arial\, Verdana\, Helvetica\, sans-serif\; font-size: 12px\; white-space: pre-wrap\; text-align: center\;">\n<div style="color: rgb(87\, 87\, 87)\; font-family: Arial\, Verdana\, Helvetica\, sans-serif\; font-size: 12px\; white-space: pre-wrap\; text-align: center\;">\n<div style="color: rgb(87\, 87\, 87)\; font-family: Arial\, Verdana\, Helvetica\, sans-serif\; font-size: 12px\; white-space: pre-wrap\; text-align: center\;">\n<div style="margin: 0px\; padding: 0px\; border: 0px\; font-variant-numeric: inherit\; font-variant-east-asian: inherit\; font-stretch: inherit\; font-size: 15px\; line-height: inherit\; font-family: &quot\;Segoe UI&quot\;\, &quot\;Segoe UI Web (West European)&quot\;\, &quot\;Segoe UI&quot\;\, -apple-system\, BlinkMacSystemFont\, Roboto\, &quot\;Helvetica Neue&quot\;\, sans-serif\; vertical-align: baseline\; color: rgb(32\, 31\, 30)\;">\n<div style="color: rgb(87\, 87\, 87)\; font-family: Arial\, Verdana\, Helvetica\, sans-serif\; font-size: 12px\; white-space: pre-wrap\; text-align: center\;"><span style="font-size: 20px\; font-weight: bold\; font-family: Tahoma\, Geneva\, sans-serif\; color: rgb(54\, 97\, 189)\;">The Denver Jewish Chamber of Commerce Presents:</span><span style="font-size: 20px\; font-weight: bold\; font-family: Tahoma\, Geneva\, sans-serif\;"> </span></div>\n\n<div style="color: rgb(87\, 87\, 87)\; font-family: Arial\, Verdana\, Helvetica\, sans-serif\; font-size: 12px\; white-space: pre-wrap\; text-align: center\;"><span style="font-size: 20px\; font-weight: bold\; font-family: Tahoma\, Geneva\, sans-serif\; color: rgb(255\, 0\, 0)\;">A Special Concert With Zach Heckendorf </span></div>\n\n<div style="color: rgb(87\, 87\, 87)\; font-family: Arial\, Verdana\, Helvetica\, sans-serif\; font-size: 12px\; white-space: pre-wrap\; text-align: center\;"><span style="font-size: 20px\; font-weight: bold\; font-family: Tahoma\, Geneva\, sans-serif\; color: rgb(255\, 0\, 0)\;">Sponsored by &#65279\;Perry Moss and Jesse Blum\, on behalf of H.M. Brown and Associates</span></div>\n\n<div style="color: rgb(87\, 87\, 87)\; font-family: Arial\, Verdana\, Helvetica\, sans-serif\; font-size: 12px\; white-space: pre-wrap\; text-align: center\;"><span style="font-size: 20px\; font-weight: bold\; font-family: Tahoma\, Geneva\, sans-serif\; color: rgb(255\, 0\, 0)\;">All proceeds benefiting Courageous Faces Foundation</span></div>\n\n<div style="color: rgb(87\, 87\, 87)\; font-family: Arial\, Verdana\, Helvetica\, sans-serif\; font-size: 12px\; white-space: pre-wrap\; text-align: center\;">&nbsp\;</div>\n\n<div style="color: rgb(87\, 87\, 87)\; font-family: Arial\, Verdana\, Helvetica\, sans-serif\; font-size: 12px\; white-space: pre-wrap\; text-align: center\;"><span style="font-size: 14px\; color: rgb(0\, 0\, 0)\; font-family: Tahoma\, Geneva\, sans-serif\;">Zach Heckendorf found himself mesmerized by the lyrical depth of master songwriters like James Taylor\, Paul Simon\, and Carole King at a young age.</span></div>\n\n<div style="color: rgb(87\, 87\, 87)\; font-family: Arial\, Verdana\, Helvetica\, sans-serif\; font-size: 12px\; white-space: pre-wrap\; text-align: center\;"><span style="font-size: 14px\; color: rgb(0\, 0\, 0)\; font-family: Tahoma\, Geneva\, sans-serif\;">He released his debut album at age 16\, and gained the backing of Republic Records at the age of 18. His artistry carves a bold path from upbeat indie pop rock to soft\, but gripping ballads.</span></div>\n\n<div style="color: rgb(87\, 87\, 87)\; font-family: Arial\, Verdana\, Helvetica\, sans-serif\; font-size: 12px\; white-space: pre-wrap\; text-align: center\;"><span style="font-size: 14px\; color: rgb(0\, 0\, 0)\; font-family: Tahoma\, Geneva\, sans-serif\;">He&rsquo\;s amassed a flurry of both critical and fan favorites\, touring the U.S. as a headliner\, developing a series of music videos\, and supporting various artists at the world-famous Red Rocks Amphitheater.</span></div>\n\n<div style="color: rgb(87\, 87\, 87)\; font-family: Arial\, Verdana\, Helvetica\, sans-serif\; font-size: 12px\; white-space: pre-wrap\; text-align: center\;">&nbsp\;</div>\n\n<div style="color: rgb(87\, 87\, 87)\; font-family: Arial\, Verdana\, Helvetica\, sans-serif\; font-size: 12px\; white-space: pre-wrap\; text-align: center\;"><span style="font-size: 14px\; font-family: Tahoma\, Geneva\, sans-serif\;">Ticket sales from this event will benefit Courageous Faces Foundation.</span><span style="font-size: 14px\; font-family: Tahoma\, Geneva\, sans-serif\; color: rgb(0\, 0\, 0)\;">Courageous Faces Foundation is honored to be the recipient of this thrilling opportunity to help improve the quality of life of those with rare and severe medical conditions through ongoing\, direct\, personalized support</span><span style="font-size: 14px\; font-family: Tahoma\, Geneva\, sans-serif\; color: rgb(35\, 35\, 35)\;">. </span><a data-link-type="web" href="https://courageousfacesfoundation.org/" rel="noopener noreferrer" style="color: rgb(69\, 179\, 202)\; font-size: 14px\; font-family: Tahoma\, Geneva\, sans-serif\;" target="_blank">Visit their website for more information on the important work they do!</a></div>\n\n<div style="color: rgb(87\, 87\, 87)\; font-family: Arial\, Verdana\, Helvetica\, sans-serif\; font-size: 12px\; white-space: pre-wrap\;">&nbsp\;</div>\n\n<div style="color: rgb(87\, 87\, 87)\; font-family: Arial\, Verdana\, Helvetica\, sans-serif\; font-size: 12px\; white-space: pre-wrap\; text-align: center\;"><span style="font-size: 20px\; color: rgb(35\, 35\, 35)\; font-weight: bold\; font-family: Tahoma\, Geneva\, sans-serif\;">Please join us for a fun night of amazing music benefiting Courageous Faces Foundation</span><br />\n<br />\n&nbsp\;</div>\n</div>\n</div>\n</div>\n</div>\n
LOCATION:This concert is a virtual event. Once you register\, you will be sent the Zoom Link to attend.
UID:e.2146.2174
SEQUENCE:3
DTSTAMP:20260424T205520Z
URL:https://business.denverjewishchamber.com/events/details/a-special-evening-of-original-music-with-zach-heckendorf-2174
END:VEVENT

END:VCALENDAR
