BEGIN:VCALENDAR
VERSION:2.0
PRODID:-//ChamberMaster//Event Calendar 2.0//EN
METHOD:PUBLISH
X-PUBLISHED-TTL:P3D
REFRESH-INTERVAL:P3D
CALSCALE:GREGORIAN
BEGIN:VEVENT
DTSTART:20201023T020000Z
DTEND:20201023T031500Z
X-MICROSOFT-CDO-ALLDAYEVENT:FALSE
SUMMARY:A Special Evening of Music with Kayla Rae
DESCRIPTION:All Inclusive Vacations + Cruises is proud to sponsor a very special concert with Denver's own Kayla Rae.  All proceeds from this event will benefit Friends of Gueoul\, Inc. Friends of Gueoul enables Senegalese girls to achieve economic and life successes by providing them with resources to continue in their education through high school and beyond.\n\n\n\n Kayla officially emerged onto the music scene in 2018 with her breakout single "Practice" which immediately gained radio play and earned her a spot on KS107.5's Summer Jam opening up for Rae Sremmurd\, Wiz Khalifa\, and Saweetie. After making the move to Denver from Colorado Springs to officially pursue her dream of being an artist and songwriter\, Kayla now spends countless hours in the studio creating for herself and other artists. Since "Practice" she continues to grow her avid fan base\, releasing songs that relate to the lives of everyone. It's only a matter of time til Kayla Rae is a worldwide staple.
X-ALT-DESC;FMTTYPE=text/html:<span style="color:#000000\;"><span style="font-size:12px\;"><span style="font-family:verdana\;">All Inclusive Vacations + Cruises is proud to sponsor a very special concert with Denver&#39\;s own Kayla Rae.&nbsp\; All proceeds from this event will benefit Friends of Gueoul\, Inc. Friends of Gueoul enables Senegalese girls to achieve economic and life successes by providing them with resources to continue in their education through high school and beyond.<br />\n<br />\n&nbsp\;<span style="letter-spacing: 0.21px\; background-color: rgb(238\, 238\, 238)\;">Kayla officially emerged onto the music scene in 2018 with her breakout single &quot\;Practice&quot\; which immediately gained radio play and earned her a spot on KS107.5&#39\;s Summer Jam opening up for Rae Sremmurd\, Wiz Khalifa\, and Saweetie. After making the move to Denver from Colorado Springs to officially pursue her dream of being an artist and songwriter\, Kayla now spends countless hours in the studio creating for herself and other artists. Since &quot\;Practice&quot\; she continues to grow her avid fan base\, releasing songs that relate to the lives of everyone. It&#39\;s only a matter of time til Kayla Rae is a worldwide staple.</span></span></span></span>
LOCATION:This is a virtual concert. It will be via Zoom.
UID:e.2146.2178
SEQUENCE:3
DTSTAMP:20260424T141805Z
URL:https://business.denverjewishchamber.com/events/details/a-special-evening-of-music-with-kayla-rae-2178
END:VEVENT

END:VCALENDAR
