BEGIN:VCALENDAR
VERSION:2.0
PRODID:-//ChamberMaster//Event Calendar 2.0//EN
METHOD:PUBLISH
X-PUBLISHED-TTL:P3D
REFRESH-INTERVAL:P3D
CALSCALE:GREGORIAN
BEGIN:VEVENT
DTSTART:20201005T230000Z
DTEND:20201006T003000Z
X-MICROSOFT-CDO-ALLDAYEVENT:FALSE
SUMMARY:A Fun Evening of Socially Distant Networking
DESCRIPTION:Join us for a fun evening of socially distanced\, outdoor networking!  We can't wait to see you in person again!  Meet Modena Cherry Creek's IPAL Social Robot\, get a small group tour of the new senior living community\, and get an individually wrapped snack created by Modena Cherry Creek's executive chef.\n\nDon't forget to bring your business card to be entered in a raffle \n\n\n\nMASKS REQUIRED
X-ALT-DESC;FMTTYPE=text/html:Join us for a fun evening of socially distanced\, outdoor networking!&nbsp\; We can&#39\;t wait to see you in person again!&nbsp\; Meet Modena Cherry Creek&#39\;s IPAL Social Robot\, get a small group tour of the new senior living community\, and get an individually wrapped snack created by Modena Cherry Creek&#39\;s executive chef.<br />\nDon&#39\;t forget to bring your business card to be entered in a raffle&nbsp\;<br />\n<br />\n<span style="color:#FF0000\;">MASKS REQUIRED</span><br />\n&nbsp\;
LOCATION:Modena Cherry Creek 2440 S. Wabash Street Denver\, CO 80231 Please enter on Wabash Street by the large Modena Cherry Creek Sign
UID:e.2146.2180
SEQUENCE:3
DTSTAMP:20260424T141501Z
URL:https://business.denverjewishchamber.com/events/details/a-fun-evening-of-socially-distant-networking-2180
END:VEVENT

END:VCALENDAR
