BEGIN:VCALENDAR
VERSION:2.0
PRODID:-//ChamberMaster//Event Calendar 2.0//EN
METHOD:PUBLISH
X-PUBLISHED-TTL:P3D
REFRESH-INTERVAL:P3D
CALSCALE:GREGORIAN
BEGIN:VEVENT
DTSTART:20210520T233000Z
DTEND:20210521T003000Z
X-MICROSOFT-CDO-ALLDAYEVENT:FALSE
SUMMARY:5 Steps to Build High Quality Career Connections That Open Doors and Make An Impact
DESCRIPTION:Can you relate to someone who has built a completely different career from you? Can two strangers build a relationship with each other\, whether professional or otherwise? Can you partner with your competition? Can you have a mutually valuable meeting with someone with a gap\, or is ahead in years of experience by decades? \n\nThe answer is yes\, yes\, yes\, and yes. For students\, startup founders\, and professionals looking to build their network with meaning. This session\, by the author of The Knock Method\, a 5-step methodology designed to build confidence and help you build high quality career connections\, will help you learn how to reach out to people you don't know\, how to have a meaningful interaction in a professional setting\, and how to open doors that lead to long-term\, mutually beneficial relationships for your network for years to come.\n\nAbout Rebecca:  Rebecca Otis Leder is the author of KNOCK. In the book\, she distills her dynamic career's culmination into five actionable steps\, known as The Knock Method. This method is meant to fill a confidence and education gap so that career growers\, career builders\, and career changers not only have the tools but feel empowered to build high-quality\, mutually beneficial career relationships that don't just lead to jobs\, but strengthen our collective power to drive change.\n\n \nIf you would like to order a copy of KNOCK\, please use this special discount code exclusive to DJCC and Boulder JCC: COJCC  www.theknockmethod.com/buy
X-ALT-DESC;FMTTYPE=text/html:<blockquote><span style="font-size: 15px\; color: rgb(0\, 0\, 0)\; font-family: &quot\;Segoe UI&quot\;\, &quot\;Lucida Grande&quot\;\, Tahoma\, sans-serif\;">Can you relate to someone who has built a completely different career from you? Can two strangers build a relationship with each other\, whether professional or otherwise? Can you partner with your competition? Can you have a mutually valuable meeting with someone with a gap\, or is ahead in years of experience by decades? </span></blockquote>\n\n<blockquote><span style="font-size: 15px\; color: rgb(0\, 0\, 0)\; font-family: &quot\;Segoe UI&quot\;\, &quot\;Lucida Grande&quot\;\, Tahoma\, sans-serif\;">The answer is yes\, yes\, yes\, and yes. For students\, startup founders\, and professionals looking to build their network with meaning. This session\, by the author of The Knock Method\, a 5-step methodology designed to build confidence and help you build high quality career connections\, will help you learn how to reach out to people you don&#39\;t know\, how to have a meaningful interaction in a professional setting\, and how to open doors that lead to long-term\, mutually beneficial relationships for your network for years to come.</span></blockquote>\n\n<div><span style="font-weight: bold\;">About Rebecca</span>: <span style="font-size: 15px\; color: rgb(0\, 0\, 0)\; font-weight: bold\; font-family: &quot\;Segoe UI&quot\;\, &quot\;Lucida Grande&quot\;\, Tahoma\, sans-serif\;">&nbsp\;</span><span style="font-size: 15px\; color: rgb(0\, 0\, 0)\; font-family: &quot\;Segoe UI&quot\;\, &quot\;Lucida Grande&quot\;\, Tahoma\, sans-serif\;">Rebecca Otis Leder is the author of KNOCK. In the book\, she distills her dynamic career&#39\;s culmination into five actionable steps\, known as The Knock Method. This method is meant to fill a confidence and education gap so that career growers\, career builders\, and career changers not only have the tools but feel empowered to build high-quality\, mutually beneficial career relationships that don&#39\;t just lead to jobs\, but strengthen our collective power to drive change.</span></div>\n\n<div>&nbsp\;\n<div style="margin: 0px\; padding: 0px\; border: 0px\; font-variant-numeric: inherit\; font-variant-east-asian: inherit\; font-stretch: inherit\; font-size: 15px\; line-height: inherit\; font-family: &quot\;Segoe UI&quot\;\, &quot\;Segoe UI Web (West European)&quot\;\, &quot\;Segoe UI&quot\;\, -apple-system\, BlinkMacSystemFont\, Roboto\, &quot\;Helvetica Neue&quot\;\, sans-serif\; vertical-align: baseline\; color: rgb(32\, 31\, 30)\;"><span style="margin: 0px\; padding: 0px\; border: 0px\; font-variant-numeric: inherit\; font-variant-east-asian: inherit\; font-stretch: inherit\; font-size: 15px\; line-height: inherit\; font-family: &quot\;Segoe UI&quot\;\, &quot\;Lucida Grande&quot\;\, Tahoma\, sans-serif\; vertical-align: baseline\; color: rgb(32\, 31\, 30)\;">If you would like to order a copy of KNOCK\, please use this special discount code exclusive to DJCC and Boulder JCC:&nbsp\;</span><span style="margin: 0px\; padding: 0px\; border: 0px\; font-variant-numeric: inherit\; font-variant-east-asian: inherit\; font-weight: bold\; font-stretch: inherit\; font-size: 15px\; line-height: inherit\; font-family: &quot\;Segoe UI&quot\;\, &quot\;Lucida Grande&quot\;\, Tahoma\, sans-serif\; vertical-align: baseline\; color: rgb(32\, 31\, 30)\;">COJCC</span><span style="margin: 0px\; padding: 0px\; border: 0px\; font-variant-numeric: inherit\; font-variant-east-asian: inherit\; font-stretch: inherit\; font-size: 15px\; line-height: inherit\; font-family: &quot\;Segoe UI&quot\;\, &quot\;Lucida Grande&quot\;\, Tahoma\, sans-serif\; vertical-align: baseline\; color: rgb(32\, 31\, 30)\;">&nbsp\;&nbsp\;</span><a data-auth="NotApplicable" data-linkindex="0" href="http://www.theknockmethod.com/buy" id="LPlnk695874" rel="noopener noreferrer" style="margin: 0px\; padding: 0px\; border: 0px\; font-variant-numeric: inherit\; font-variant-east-asian: inherit\; font-stretch: inherit\; font-size: 15px\; line-height: inherit\; font-family: &quot\;Segoe UI&quot\;\, &quot\;Lucida Grande&quot\;\, Tahoma\, sans-serif\; vertical-align: baseline\; color: rgb(235\, 76\, 57)\;" target="_blank">www.theknockmethod.com/buy</a></div>\n</div>\n
LOCATION:Via Zoom
UID:e.2146.2187
SEQUENCE:3
DTSTAMP:20260424T023403Z
URL:https://business.denverjewishchamber.com/events/details/5-steps-to-build-high-quality-career-connections-that-open-doors-and-make-an-impact-2187
END:VEVENT

END:VCALENDAR
